Package: interactiveDisplayBase Version: 1.49.0 Command: /home/rapidbuild/bbs-3.23-bioc-rapid/R/bin/R CMD build --keep-empty-dirs --no-resave-data interactiveDisplayBase StartedAt: 2025-11-10 07:10:22 -0500 (Mon, 10 Nov 2025) EndedAt: 2025-11-10 07:10:26 -0500 (Mon, 10 Nov 2025) EllapsedTime: 4.0 seconds RetCode: 0 Status: OK PackageFile: interactiveDisplayBase_1.49.0.tar.gz PackageFileSize: 8.084 KiB