Package: basilisk.utils Version: 1.23.1 Maintainer: Aaron Lun MaintainerEmail: infinite.monkeys.with.keyboards at gmail.com git_url: https://git.bioconductor.org/packages/basilisk.utils git_branch: devel git_last_commit: 863ddfb git_last_commit_date: 2025-11-08 16:33:51 -0500 (Sat, 08 Nov 2025)