Package: VariantAnnotation Version: 1.57.0 Command: /home/rapidbuild/bbs-3.23-bioc-rapid/R/bin/R CMD INSTALL VariantAnnotation StartedAt: 2025-11-09 06:23:42 -0500 (Sun, 09 Nov 2025) EndedAt: 2025-11-09 06:24:40 -0500 (Sun, 09 Nov 2025) EllapsedTime: 57.7 seconds RetCode: 0 Status: OK