Package: VariantAnnotation Version: 1.57.0 Command: /home/rapidbuild/bbs-3.23-bioc-rapid/R/bin/R CMD build --keep-empty-dirs --no-resave-data VariantAnnotation StartedAt: 2025-11-09 07:38:45 -0500 (Sun, 09 Nov 2025) EndedAt: 2025-11-09 07:41:20 -0500 (Sun, 09 Nov 2025) EllapsedTime: 154.2 seconds RetCode: 0 Status: OK PackageFile: VariantAnnotation_1.57.0.tar.gz PackageFileSize: 2.045 MiB