Package: SparseArray Version: 1.11.1 Command: /home/rapidbuild/bbs-3.23-bioc-rapid/R/bin/R CMD INSTALL SparseArray StartedAt: 2025-11-10 06:17:24 -0500 (Mon, 10 Nov 2025) EndedAt: 2025-11-10 06:17:51 -0500 (Mon, 10 Nov 2025) EllapsedTime: 26.5 seconds RetCode: 0 Status: OK