Package: SparseArray Version: 1.11.1 Command: /home/rapidbuild/bbs-3.23-bioc-rapid/R/bin/R CMD build --keep-empty-dirs --no-resave-data SparseArray StartedAt: 2025-11-09 07:34:12 -0500 (Sun, 09 Nov 2025) EndedAt: 2025-11-09 07:34:57 -0500 (Sun, 09 Nov 2025) EllapsedTime: 44.3 seconds RetCode: 0 Status: OK PackageFile: SparseArray_1.11.1.tar.gz PackageFileSize: 464.3 KiB