Package: SparseArray Version: 1.11.1 Maintainer: Hervé Pagès MaintainerEmail: hpages.on.github at gmail.com git_url: https://git.bioconductor.org/packages/SparseArray git_branch: devel git_last_commit: 45142ef git_last_commit_date: 2025-11-08 04:29:02 -0500 (Sat, 08 Nov 2025)