Package: MsCoreUtils Version: 1.23.0 Command: /home/rapidbuild/bbs-3.23-bioc-rapid/R/bin/R CMD build --keep-empty-dirs --no-resave-data MsCoreUtils StartedAt: 2025-11-09 07:12:31 -0500 (Sun, 09 Nov 2025) EndedAt: 2025-11-09 07:12:39 -0500 (Sun, 09 Nov 2025) EllapsedTime: 8.0 seconds RetCode: 0 Status: OK PackageFile: MsCoreUtils_1.23.0.tar.gz PackageFileSize: 414.3 KiB