Package: MetaboCoreUtils Version: 1.19.1 Command: /home/rapidbuild/bbs-3.23-bioc-rapid/R/bin/R CMD INSTALL MetaboCoreUtils StartedAt: 2025-11-22 06:21:26 -0500 (Sat, 22 Nov 2025) EndedAt: 2025-11-22 06:21:30 -0500 (Sat, 22 Nov 2025) EllapsedTime: 4.2 seconds RetCode: 0 Status: OK