Package: MetaboCoreUtils Version: 1.19.1 Command: /home/rapidbuild/bbs-3.23-bioc-rapid/R/bin/R CMD build --keep-empty-dirs --no-resave-data MetaboCoreUtils StartedAt: 2025-11-22 07:11:14 -0500 (Sat, 22 Nov 2025) EndedAt: 2025-11-22 07:11:25 -0500 (Sat, 22 Nov 2025) EllapsedTime: 11.3 seconds RetCode: 0 Status: OK PackageFile: MetaboCoreUtils_1.19.1.tar.gz PackageFileSize: 1.278 MiB