Package: BumpyMatrix Version: 1.19.0 Command: /home/rapidbuild/bbs-3.23-bioc-rapid/R/bin/R CMD INSTALL BumpyMatrix StartedAt: 2025-11-24 06:12:52 -0500 (Mon, 24 Nov 2025) EndedAt: 2025-11-24 06:13:03 -0500 (Mon, 24 Nov 2025) EllapsedTime: 11.6 seconds RetCode: 0 Status: OK