Package: BumpyMatrix Version: 1.19.0 Command: /home/rapidbuild/bbs-3.23-bioc-rapid/R/bin/R CMD build --keep-empty-dirs --no-resave-data BumpyMatrix StartedAt: 2025-11-24 06:36:28 -0500 (Mon, 24 Nov 2025) EndedAt: 2025-11-24 06:36:46 -0500 (Mon, 24 Nov 2025) EllapsedTime: 18.0 seconds RetCode: 0 Status: OK PackageFile: BumpyMatrix_1.19.0.tar.gz PackageFileSize: 317.6 KiB