Welcome to mirrors.dotsrc.org

All our mirrors of open source software are available via http, https, ftp and an onion service. More information about our mirrors including statistics and contact information is available on our mirror info pages.

For information about dotsrc.org and our other services please go to our website.

Index of /bioconductor/checkResults/3.23/bioc-rapid-LATEST/

File Name  ↓ File Size  ↓ Date  ↓ 
--
-2025-11-08 15:13:11
-2025-11-08 15:13:12
-2025-11-08 15:13:12
-2025-11-08 15:13:12
-2025-11-08 15:13:12
-2025-11-08 15:13:12
-2025-11-08 15:13:12
-2025-11-08 15:13:12
-2025-11-08 15:13:12
-2025-11-08 15:13:12
-2025-11-08 15:13:12
-2025-11-08 15:13:12
-2025-11-08 15:13:12
-2025-11-08 15:13:12
-2025-11-08 15:13:12
-2025-11-08 15:13:12
-2025-11-08 15:13:12
-2025-11-08 15:13:12
-2025-11-08 15:13:12
-2025-11-08 15:13:12
-2025-11-08 15:13:12
-2025-11-08 15:13:12
-2025-11-08 15:13:12
-2025-11-08 15:13:12
-2025-11-08 15:13:12
-2025-11-08 15:13:12
-2025-11-08 15:13:12
-2025-11-08 15:13:12
-2025-11-08 15:13:12
-2025-11-08 15:13:12
-2025-11-08 15:13:12
-2025-11-08 15:13:12
-2025-11-08 15:13:12
-2025-11-08 15:13:12
-2025-11-08 15:13:12
-2025-11-08 15:13:12
-2025-11-08 15:13:12
-2025-11-08 15:13:12
-2025-11-08 15:13:12
-2025-11-08 15:13:12
-2025-11-08 15:13:12
-2025-11-08 15:13:12
-2025-11-08 15:13:12
-2025-11-08 15:13:12
-2025-11-08 15:13:12
-2025-11-08 15:13:12
-2025-11-08 15:13:13
-2025-11-08 15:13:13
-2025-11-08 15:13:13
-2025-11-08 15:13:13
-2025-11-08 15:13:13
-2025-11-08 15:13:12
-2025-11-08 15:13:12
-2025-11-08 15:13:12
-2025-11-08 15:13:12
-2025-11-08 15:13:13
-2025-11-08 15:13:13
-2025-11-08 15:13:13
-2025-11-08 15:13:13
-2025-11-08 15:13:13
-2025-11-08 15:13:13
-2025-11-08 15:13:13
-2025-11-08 15:13:13
-2025-11-08 15:13:13
-2025-11-08 15:13:13
-2025-11-08 15:13:13
-2025-11-08 15:13:13
-2025-11-08 15:13:13
-2025-11-08 15:13:13
-2025-11-08 15:13:13
-2025-11-08 15:13:13
-2025-11-08 15:13:13
-2025-11-08 15:13:13
-2025-11-08 15:13:13
-2025-11-08 15:13:13
-2025-11-08 15:13:13
-2025-11-08 15:13:13
-2025-11-08 15:13:13
-2025-11-08 15:13:13
-2025-11-08 15:13:13
-2025-11-08 15:13:14
-2025-11-08 15:13:14
-2025-11-08 15:13:13
-2025-11-08 15:13:14
-2025-11-08 15:13:14
-2025-11-08 15:13:14
-2025-11-08 15:13:14
-2025-11-08 15:13:14
-2025-11-08 15:13:14
-2025-11-08 15:13:14
-2025-11-08 15:13:14
-2025-11-08 15:13:14
-2025-11-08 15:13:14
-2025-11-08 15:13:14
-2025-11-08 15:13:14
-2025-11-08 15:13:14
-2025-11-08 15:13:14
-2025-11-08 15:13:14
-2025-11-08 15:13:14
-2025-11-08 15:13:14
-2025-11-08 15:13:14
-2025-11-08 15:13:14
-2025-11-08 15:13:14
-2025-11-08 15:13:14
-2025-11-08 15:13:14
-2025-11-08 15:13:14
-2025-11-08 15:13:14
-2025-11-08 15:13:14
-2025-11-08 15:13:14
-2025-11-08 15:13:14
-2025-11-08 15:13:14
-2025-11-08 15:13:14
-2025-11-08 15:13:11
-2025-11-08 15:13:11
-2025-11-08 15:13:11
-2025-11-08 15:13:11
-2025-11-08 15:13:11
-2025-11-08 15:13:11
-2025-11-08 15:13:11
-2025-11-08 15:13:11
-2025-11-08 15:13:11
-2025-11-08 15:13:11
-2025-11-08 15:13:11
-2025-11-08 15:13:12
-2025-11-08 15:13:12
-2025-11-08 15:13:12
-2025-11-08 15:13:12
-2025-11-08 15:13:12
-2025-11-08 15:13:12
-2025-11-08 15:13:12
-2025-11-08 15:13:12
-2025-11-08 15:13:12
-2025-11-08 15:13:12
-2025-11-08 15:13:12
-2025-11-08 15:13:12
-2025-11-08 15:13:12
-2025-11-08 15:13:12
-2025-11-08 15:13:12
-2025-11-08 15:13:12
-2025-11-08 15:13:12
-2025-11-08 15:13:12
-2025-11-08 15:13:12
-2025-11-08 15:13:12
-2025-11-08 15:13:12
-2025-11-08 15:13:12
-2025-11-08 15:13:12
-2025-11-08 15:13:12
-2025-11-08 15:13:12
-2025-11-08 15:13:12
-2025-11-08 15:13:12
-2025-11-08 15:13:12
-2025-11-08 15:13:12
-2025-11-08 15:13:12
-2025-11-08 15:13:12
-2025-11-08 15:13:12
-2025-11-08 15:13:12
-2025-11-08 15:13:12
-2025-11-08 15:13:12
-2025-11-08 15:13:12
-2025-11-08 15:13:12
-2025-11-08 15:13:12
-2025-11-08 15:13:12
-2025-11-08 15:13:12
-2025-11-08 15:13:12
-2025-11-08 15:13:12
-2025-11-08 15:13:13
-2025-11-08 15:13:13
-2025-11-08 15:13:13
-2025-11-08 15:13:13
-2025-11-08 15:13:13
-2025-11-08 15:13:13
-2025-11-08 15:13:13
-2025-11-08 15:13:13
-2025-11-08 15:13:13
-2025-11-08 15:13:13
-2025-11-08 15:13:13
-2025-11-08 15:13:13
-2025-11-08 15:13:13
-2025-11-08 15:13:13
-2025-11-08 15:13:13
-2025-11-08 15:13:13
-2025-11-08 15:13:13
-2025-11-08 15:13:13
-2025-11-08 15:13:13
-2025-11-08 15:13:13
-2025-11-08 15:13:13
-2025-11-08 15:13:13
-2025-11-08 15:13:13
-2025-11-08 15:13:13
-2025-11-08 15:13:13
-2025-11-08 15:13:13
-2025-11-08 15:13:13
-2025-11-08 15:13:13
-2025-11-08 15:13:13
-2025-11-08 15:13:13
-2025-11-08 15:13:13
-2025-11-08 15:13:13
-2025-11-08 15:13:13
-2025-11-08 15:13:13
-2025-11-08 15:13:13
-2025-11-08 15:13:13
-2025-11-08 15:13:13
-2025-11-08 15:13:13
-2025-11-08 15:13:14
-2025-11-08 15:13:14
-2025-11-08 15:13:14
-2025-11-08 15:13:14
-2025-11-08 15:13:14
-2025-11-08 15:13:14
-2025-11-08 15:13:14
-2025-11-08 15:13:14
-2025-11-08 15:13:14
-2025-11-08 15:13:14
-2025-11-08 15:13:14
-2025-11-08 15:13:14
-2025-11-08 15:13:14
-2025-11-08 15:13:14
-2025-11-08 15:13:14
-2025-11-08 15:13:14
-2025-11-08 15:13:14
-2025-11-08 15:13:14
-2025-11-08 15:13:14
-2025-11-08 15:13:14
-2025-11-08 15:13:14
-2025-11-08 15:13:14
-2025-11-08 15:13:14
-2025-11-08 15:13:14
-2025-11-08 15:13:14
-2025-11-08 15:13:14
-2025-11-08 15:13:14
7.1 KiB2025-11-08 15:13:11
7.1 KiB2025-11-08 15:13:11
7.0 KiB2025-11-08 15:13:11
20.7 KiB2025-11-08 15:13:11
2.6 KiB2025-11-08 15:13:11
3.4 KiB2025-11-08 15:13:11
245.9 KiB2025-11-08 15:13:14
24.9 KiB2025-11-08 15:13:11
11.9 KiB2025-11-08 15:13:11
6.0 KiB2025-11-08 15:13:11
4.2 MiB2025-11-08 15:13:16
0 B2025-11-08 15:13:11
7.4 KiB2025-11-08 15:13:11
121.9 KiB2025-11-08 15:13:11