Package: xenLite Version: 1.5.0 Command: /home/biocbuild/bbs-3.23-bioc/R/bin/R CMD INSTALL xenLite StartedAt: 2025-11-14 15:36:56 -0500 (Fri, 14 Nov 2025) EndedAt: 2025-11-14 15:37:30 -0500 (Fri, 14 Nov 2025) EllapsedTime: 33.7 seconds RetCode: 0 Status: OK