Package: xcore Version: 1.15.0 Command: /home/biocbuild/bbs-3.23-bioc/R/bin/R CMD INSTALL xcore StartedAt: 2025-11-26 15:20:40 -0500 (Wed, 26 Nov 2025) EndedAt: 2025-11-26 15:21:03 -0500 (Wed, 26 Nov 2025) EllapsedTime: 23.6 seconds RetCode: 0 Status: OK