Package: wiggleplotr Version: 1.35.0 Maintainer: Kaur Alasoo MaintainerEmail: kaur.alasoo at gmail.com git_url: https://git.bioconductor.org/packages/wiggleplotr git_branch: devel git_last_commit: 39b648a git_last_commit_date: 2025-10-29 10:37:42 -0500 (Wed, 29 Oct 2025)