Package: widgetTools Version: 1.89.0 Command: /home/biocbuild/bbs-3.23-bioc/R/bin/R CMD INSTALL widgetTools StartedAt: 2025-11-07 15:04:51 -0500 (Fri, 07 Nov 2025) EndedAt: 2025-11-07 15:05:18 -0500 (Fri, 07 Nov 2025) EllapsedTime: 27.1 seconds RetCode: 0 Status: OK