Package: weitrix Version: 1.23.0 Command: /home/biocbuild/bbs-3.23-bioc/R/bin/R CMD INSTALL weitrix StartedAt: 2025-11-23 15:54:29 -0500 (Sun, 23 Nov 2025) EndedAt: 2025-11-23 15:54:58 -0500 (Sun, 23 Nov 2025) EllapsedTime: 28.6 seconds RetCode: 0 Status: OK