Package: webbioc Version: 1.83.0 Command: /home/biocbuild/bbs-3.23-bioc/R/bin/R CMD INSTALL webbioc StartedAt: 2025-11-09 15:44:46 -0500 (Sun, 09 Nov 2025) EndedAt: 2025-11-09 15:45:08 -0500 (Sun, 09 Nov 2025) EllapsedTime: 21.8 seconds RetCode: 0 Status: OK