Package: webbioc Version: 1.83.0 Maintainer: Colin A. Smith MaintainerEmail: colin at colinsmith.org git_url: https://git.bioconductor.org/packages/webbioc git_branch: devel git_last_commit: 8bbf95c git_last_commit_date: 2025-10-29 09:54:04 -0500 (Wed, 29 Oct 2025)