Package: weaver Version: 1.77.0 Command: /home/biocbuild/bbs-3.23-bioc/R/bin/R CMD INSTALL weaver StartedAt: 2025-11-23 15:07:49 -0500 (Sun, 23 Nov 2025) EndedAt: 2025-11-23 15:08:24 -0500 (Sun, 23 Nov 2025) EllapsedTime: 35.2 seconds RetCode: 0 Status: OK