Package: weaver Version: 1.77.0 Command: /home/biocbuild/bbs-3.23-bioc/R/bin/R CMD build --keep-empty-dirs --no-resave-data weaver StartedAt: 2025-11-23 20:44:36 -0500 (Sun, 23 Nov 2025) EndedAt: 2025-11-23 20:44:41 -0500 (Sun, 23 Nov 2025) EllapsedTime: 5.0 seconds RetCode: 0 Status: OK PackageFile: weaver_1.77.0.tar.gz PackageFileSize: 232.5 KiB