Package: updateObject Version: 1.15.0 Command: /home/biocbuild/bbs-3.23-bioc/R/bin/R CMD INSTALL updateObject StartedAt: 2025-11-07 15:13:22 -0500 (Fri, 07 Nov 2025) EndedAt: 2025-11-07 15:13:26 -0500 (Fri, 07 Nov 2025) EllapsedTime: 4.3 seconds RetCode: 0 Status: OK