Package: unifiedWMWqPCR Version: 1.47.0 Command: /home/biocbuild/bbs-3.23-bioc/R/bin/R CMD INSTALL unifiedWMWqPCR StartedAt: 2025-11-20 15:11:11 -0500 (Thu, 20 Nov 2025) EndedAt: 2025-11-20 15:11:15 -0500 (Thu, 20 Nov 2025) EllapsedTime: 3.9 seconds RetCode: 0 Status: OK