Package: uncoverappLib Version: 1.21.0 Command: /home/biocbuild/bbs-3.23-bioc/R/bin/R CMD INSTALL uncoverappLib StartedAt: 2025-11-26 15:59:59 -0500 (Wed, 26 Nov 2025) EndedAt: 2025-11-26 16:00:58 -0500 (Wed, 26 Nov 2025) EllapsedTime: 58.7 seconds RetCode: 0 Status: OK