Package: uncoverappLib Version: 1.21.0 Command: /home/biocbuild/bbs-3.23-bioc/R/bin/R CMD build --keep-empty-dirs --no-resave-data uncoverappLib StartedAt: 2025-11-26 20:37:11 -0500 (Wed, 26 Nov 2025) EndedAt: 2025-11-26 20:38:28 -0500 (Wed, 26 Nov 2025) EllapsedTime: 77.1 seconds RetCode: 0 Status: OK PackageFile: uncoverappLib_1.21.0.tar.gz PackageFileSize: 3.43 MiB