Package: treekoR Version: 1.19.0 Command: /home/biocbuild/bbs-3.23-bioc/R/bin/R CMD INSTALL treekoR StartedAt: 2025-11-09 15:23:00 -0500 (Sun, 09 Nov 2025) EndedAt: 2025-11-09 15:23:45 -0500 (Sun, 09 Nov 2025) EllapsedTime: 45.3 seconds RetCode: 0 Status: OK