Package: treekoR Version: 1.19.0 Maintainer: Adam Chan MaintainerEmail: adam.s.chan at sydney.edu.au git_url: https://git.bioconductor.org/packages/treekoR git_branch: devel git_last_commit: 405f7ca git_last_commit_date: 2025-10-29 11:08:22 -0500 (Wed, 29 Oct 2025)