Package: treeclimbR Version: 1.7.0 Command: /home/biocbuild/bbs-3.23-bioc/R/bin/R CMD INSTALL treeclimbR StartedAt: 2025-11-07 15:32:21 -0500 (Fri, 07 Nov 2025) EndedAt: 2025-11-07 15:32:59 -0500 (Fri, 07 Nov 2025) EllapsedTime: 37.9 seconds RetCode: 0 Status: OK