Package: treeclimbR Version: 1.7.0 Maintainer: Charlotte Soneson MaintainerEmail: charlottesoneson at gmail.com git_url: https://git.bioconductor.org/packages/treeclimbR git_branch: devel git_last_commit: 3ba408c git_last_commit_date: 2025-10-29 11:28:31 -0500 (Wed, 29 Oct 2025)