Package: transcriptogramer Version: 1.33.0 Command: /home/biocbuild/bbs-3.23-bioc/R/bin/R CMD INSTALL transcriptogramer StartedAt: 2025-11-09 15:39:31 -0500 (Sun, 09 Nov 2025) EndedAt: 2025-11-09 15:39:57 -0500 (Sun, 09 Nov 2025) EllapsedTime: 26.2 seconds RetCode: 0 Status: OK