Package: transcriptogramer Version: 1.33.0 Maintainer: Diego Morais MaintainerEmail: vinx at ufrn.edu.br git_url: https://git.bioconductor.org/packages/transcriptogramer git_branch: devel git_last_commit: c57474a git_last_commit_date: 2025-10-29 10:42:09 -0500 (Wed, 29 Oct 2025)