Package: transcriptR Version: 1.39.0 Command: /home/biocbuild/bbs-3.23-bioc/R/bin/R CMD INSTALL transcriptR StartedAt: 2025-11-07 15:56:31 -0500 (Fri, 07 Nov 2025) EndedAt: 2025-11-07 15:57:19 -0500 (Fri, 07 Nov 2025) EllapsedTime: 47.4 seconds RetCode: 0 Status: OK