Package: transcriptR Version: 1.39.0 Command: /home/biocbuild/bbs-3.23-bioc/R/bin/R CMD build --keep-empty-dirs --no-resave-data transcriptR StartedAt: 2025-11-07 20:30:39 -0500 (Fri, 07 Nov 2025) EndedAt: 2025-11-07 20:32:04 -0500 (Fri, 07 Nov 2025) EllapsedTime: 85.1 seconds RetCode: 0 Status: OK PackageFile: transcriptR_1.39.0.tar.gz PackageFileSize: 3.561 MiB