Package: transcriptR Version: 1.39.0 Maintainer: Armen R. Karapetyan MaintainerEmail: armen.karapetyan87 at gmail.com git_url: https://git.bioconductor.org/packages/transcriptR git_branch: devel git_last_commit: 24cea71 git_last_commit_date: 2025-10-29 10:29:09 -0500 (Wed, 29 Oct 2025)