Package: trackViewer Version: 1.47.0 Command: /home/biocbuild/bbs-3.23-bioc/R/bin/R CMD INSTALL trackViewer StartedAt: 2025-11-18 16:40:00 -0500 (Tue, 18 Nov 2025) EndedAt: 2025-11-18 16:40:59 -0500 (Tue, 18 Nov 2025) EllapsedTime: 59.4 seconds RetCode: 0 Status: OK