Package: timecourse Version: 1.83.0 Command: /home/biocbuild/bbs-3.23-bioc/R/bin/R CMD INSTALL timecourse StartedAt: 2025-11-17 15:13:28 -0500 (Mon, 17 Nov 2025) EndedAt: 2025-11-17 15:13:33 -0500 (Mon, 17 Nov 2025) EllapsedTime: 5.1 seconds RetCode: 0 Status: OK