Package: tilingArray Version: 1.89.0 Maintainer: Zhenyu Xu MaintainerEmail: zxu at embl.de git_url: https://git.bioconductor.org/packages/tilingArray git_branch: devel git_last_commit: 1959ceb git_last_commit_date: 2025-10-29 09:56:07 -0500 (Wed, 29 Oct 2025)