Package: tidytof Version: 1.5.0 Command: /home/biocbuild/bbs-3.23-bioc/R/bin/R CMD INSTALL tidytof StartedAt: 2025-11-09 15:13:26 -0500 (Sun, 09 Nov 2025) EndedAt: 2025-11-09 15:13:54 -0500 (Sun, 09 Nov 2025) EllapsedTime: 27.7 seconds RetCode: 0 Status: OK