Package: tidytof Version: 1.5.0 Maintainer: Timothy Keyes MaintainerEmail: tkeyes at stanford.edu git_url: https://git.bioconductor.org/packages/tidytof git_branch: devel git_last_commit: 6312a05 git_last_commit_date: 2025-10-29 11:31:42 -0500 (Wed, 29 Oct 2025)