Package: tidyomics Version: 1.7.0 Command: /home/biocbuild/bbs-3.23-bioc/R/bin/R CMD INSTALL tidyomics StartedAt: 2025-11-07 15:35:41 -0500 (Fri, 07 Nov 2025) EndedAt: 2025-11-07 15:36:14 -0500 (Fri, 07 Nov 2025) EllapsedTime: 33.4 seconds RetCode: 0 Status: OK