Package: tidyomics Version: 1.7.0 Maintainer: Stefano Mangiola MaintainerEmail: mangiolastefano at gmail.com git_url: https://git.bioconductor.org/packages/tidyomics git_branch: devel git_last_commit: 4528d62 git_last_commit_date: 2025-10-29 11:27:52 -0500 (Wed, 29 Oct 2025)