Package: tidybulk Version: 2.1.0 Command: /home/biocbuild/bbs-3.23-bioc/R/bin/R CMD INSTALL tidybulk StartedAt: 2025-11-07 15:25:18 -0500 (Fri, 07 Nov 2025) EndedAt: 2025-11-07 15:25:51 -0500 (Fri, 07 Nov 2025) EllapsedTime: 33.1 seconds RetCode: 0 Status: OK