Package: tidySpatialExperiment Version: 1.7.1 Command: /home/biocbuild/bbs-3.23-bioc/R/bin/R CMD INSTALL tidySpatialExperiment StartedAt: 2025-11-07 15:23:06 -0500 (Fri, 07 Nov 2025) EndedAt: 2025-11-07 15:23:35 -0500 (Fri, 07 Nov 2025) EllapsedTime: 29.1 seconds RetCode: 0 Status: OK