Package: tidySpatialExperiment Version: 1.7.1 Maintainer: William Hutchison MaintainerEmail: hutchison.w at wehi.edu.au git_url: https://git.bioconductor.org/packages/tidySpatialExperiment git_branch: devel git_last_commit: 9871264 git_last_commit_date: 2025-11-02 19:43:39 -0500 (Sun, 02 Nov 2025)