Package: tidySingleCellExperiment Version: 1.21.0 Command: /home/biocbuild/bbs-3.23-bioc/R/bin/R CMD INSTALL tidySingleCellExperiment StartedAt: 2025-11-07 15:19:58 -0500 (Fri, 07 Nov 2025) EndedAt: 2025-11-07 15:20:26 -0500 (Fri, 07 Nov 2025) EllapsedTime: 28.1 seconds RetCode: 0 Status: OK