Package: tidyFlowCore Version: 1.5.0 Command: /home/biocbuild/bbs-3.23-bioc/R/bin/R CMD INSTALL tidyFlowCore StartedAt: 2025-11-09 15:13:33 -0500 (Sun, 09 Nov 2025) EndedAt: 2025-11-09 15:13:42 -0500 (Sun, 09 Nov 2025) EllapsedTime: 9.2 seconds RetCode: 0 Status: OK