Package: tidyFlowCore Version: 1.5.0 Command: /home/biocbuild/bbs-3.23-bioc/R/bin/R CMD check --install=check:tidyFlowCore.install-out.txt --library=/home/biocbuild/bbs-3.23-bioc/R/site-library --timings tidyFlowCore_1.5.0.tar.gz StartedAt: 2025-11-08 04:43:05 -0500 (Sat, 08 Nov 2025) EndedAt: 2025-11-08 04:45:24 -0500 (Sat, 08 Nov 2025) EllapsedTime: 138.2 seconds RetCode: 0 Status: OK CheckDir: tidyFlowCore.Rcheck Warnings: 0