Package: tidyFlowCore Version: 1.5.0 Command: /home/biocbuild/bbs-3.23-bioc/R/bin/R CMD build --keep-empty-dirs --no-resave-data tidyFlowCore StartedAt: 2025-11-09 20:26:13 -0500 (Sun, 09 Nov 2025) EndedAt: 2025-11-09 20:27:10 -0500 (Sun, 09 Nov 2025) EllapsedTime: 57.1 seconds RetCode: 0 Status: OK PackageFile: tidyFlowCore_1.5.0.tar.gz PackageFileSize: 783.8 KiB