Package: tidyFlowCore Version: 1.5.0 Maintainer: Timothy Keyes MaintainerEmail: tkeyes at stanford.edu git_url: https://git.bioconductor.org/packages/tidyFlowCore git_branch: devel git_last_commit: 1848897 git_last_commit_date: 2025-10-29 11:30:26 -0500 (Wed, 29 Oct 2025)